BEGIN:VCALENDAR
VERSION:2.0
PRODID:-//Squarespace Inc/Squarespace 6//v6//EN
BEGIN:VEVENT
UID:5e3c0dfa8c8e12445811c7ca@squarespace.com
DTSTAMP:20200206T130322Z
DTSTART:20200808T093000Z
DTEND:20200808T113000Z
SUMMARY:R21 - Adelaide Croatia Raiders v Adelaide Comets
GEO:-34.841506;138.605882
LOCATION:Croatian Sports Centre\, 61 Anna Meares Way\, Gepps Cross\, SA\, 5
 094\, Australia
END:VEVENT
END:VCALENDAR
