BEGIN:VCALENDAR
VERSION:2.0
PRODID:-//Squarespace Inc/Squarespace 6//v6//EN
BEGIN:VEVENT
UID:5e3c0ed68c8e12445811dd94@squarespace.com
DTSTAMP:20200206T130722Z
DTSTART:20200815T094500Z
DTEND:20200815T114500Z
SUMMARY:R22 - Para Hills Knights v Adelaide Croatia Raiders
GEO:-34.806824;138.649304
LOCATION:Tha Paddocks\, Bridge Road\, Para Hills\, SA\, 5096\, Australia
END:VEVENT
END:VCALENDAR
