BEGIN:VCALENDAR
VERSION:2.0
PRODID:-//Squarespace Inc/Squarespace 6//v6//EN
BEGIN:VEVENT
UID:5e3c0bf231d6bc60cd8bb977@squarespace.com
DTSTAMP:20200206T125922Z
DTSTART:20200801T073000Z
DTEND:20200801T093000Z
SUMMARY:R20 - Cumberland United v Adelaide Croatia Raiders
GEO:-34.973268;138.579598
LOCATION:A.A. Bailey Reserve\, Winona Avenue\, Clarence Gardens\, SA\, 5039
 \, Australia
END:VEVENT
END:VCALENDAR
