BEGIN:VCALENDAR
VERSION:2.0
PRODID:-//Squarespace Inc/Squarespace 6//v6//EN
BEGIN:VEVENT
UID:5e3c0786903a9d30ddaa229a@squarespace.com
DTSTAMP:20200206T123744Z
DTSTART:20200703T104500Z
DTEND:20200703T124500Z
SUMMARY:R16 - Modbury Jets v Adelaide Croatia Raiders
GEO:-34.817727;138.696246
LOCATION:Smith Partners Stadium\, 75 Golden Grove Road\, Ridgehaven\, SA\, 
 5097\, Australia
END:VEVENT
END:VCALENDAR
