BEGIN:VCALENDAR
VERSION:2.0
PRODID:-//Squarespace Inc/Squarespace 6//v6//EN
BEGIN:VEVENT
UID:5e3c0ada0f9637163381b043@squarespace.com
DTSTAMP:20200206T125019Z
DTSTART:20200725T053000Z
DTEND:20200725T073000Z
SUMMARY:R19 - Adelaide Croatia Raiders v Adelaide City
GEO:-34.841506;138.605882
LOCATION:Croatian Sports Centre\, 61 Anna Meares Way\, Gepps Cross\, SA\, 5
 094\, Australia
END:VEVENT
END:VCALENDAR
