BEGIN:VCALENDAR
VERSION:2.0
PRODID:-//Squarespace Inc/Squarespace 6//v6//EN
BEGIN:VEVENT
UID:5e3c09b17af05d62584b8227@squarespace.com
DTSTAMP:20200206T124517Z
DTSTART:20200718T053000Z
DTEND:20200718T073000Z
SUMMARY:R18 - MetroStars v Adelaide Croatia Raiders
GEO:-34.877148;138.6411
LOCATION:TK Shutter Reserve\, Fourth Avenue\, Klemzig\, SA\, 5087\, Austral
 ia
END:VEVENT
END:VCALENDAR
