BEGIN:VCALENDAR
VERSION:2.0
PRODID:-//Squarespace Inc/Squarespace 6//v6//EN
BEGIN:VEVENT
UID:5e3c08ee8f6bab74a4d0b993@squarespace.com
DTSTAMP:20200206T124117Z
DTSTART:20200711T053000Z
DTEND:20200711T073000Z
SUMMARY:R17 - Adelaide Croatia Raiders v Adelaide Olympic
GEO:-34.841506;138.605882
LOCATION:Croatian Sports Centre\, 61 Anna Meares Way\, Gepps Cross\, SA\, 5
 094\, Australia
END:VEVENT
END:VCALENDAR
