BEGIN:VCALENDAR
VERSION:2.0
PRODID:-//Squarespace Inc/Squarespace 6//v6//EN
BEGIN:VEVENT
UID:5c5fc53f1905f4fc9c251ac7@squarespace.com
DTSTAMP:20200206T122458Z
DTSTART:20200606T053000Z
DTEND:20200606T073000Z
SUMMARY:R13 - Campbelltown City v Adelaide Croatia Raiders
GEO:-34.884802;138.691401
LOCATION:Steve Woodcock Sports Centre\, 2/72 Stradbroke Road\, Newton\, SA\
 , 5074\, Australia
END:VEVENT
END:VCALENDAR
