BEGIN:VCALENDAR
VERSION:2.0
PRODID:-//Squarespace Inc/Squarespace 6//v6//EN
BEGIN:VEVENT
UID:5e3c066df70d700b8af4fa43@squarespace.com
DTSTAMP:20200206T123054Z
DTSTART:20200627T073000Z
DTEND:20200627T093000Z
SUMMARY:R15 - Adelaide Croatia Raiders v Croydon Kings
GEO:-34.841506;138.605882
LOCATION:Croatian Sports Centre\, 61 Anna Meares Way\, Gepps Cross\, SA\, 5
 094\, Australia
END:VEVENT
END:VCALENDAR
