BEGIN:VCALENDAR
VERSION:2.0
PRODID:-//Squarespace Inc/Squarespace 6//v6//EN
BEGIN:VEVENT
UID:5e3c05df688b3b6f9b326199@squarespace.com
DTSTAMP:20200206T122726Z
DTSTART:20200613T053000Z
DTEND:20200613T073000Z
SUMMARY:R14 - Adelaide Croatia Raiders v Adelaide Blue Eagles
GEO:-34.841506;138.605882
LOCATION:Croatian Sports Centre\, 61 Anna Meares Way\, Gepps Cross\, SA\, 5
 094\, Australia
END:VEVENT
END:VCALENDAR
