BEGIN:VCALENDAR
VERSION:2.0
PRODID:-//Squarespace Inc/Squarespace 6//v6//EN
BEGIN:VEVENT
UID:5e3bff35b077f20bf74e5e3b@squarespace.com
DTSTAMP:20200206T115936Z
DTSTART:20200509T093000Z
DTEND:20200509T113000Z
SUMMARY:R9 - Adelaide Croatia Raiders v MetroStars
GEO:42.176114;-83.00928
LOCATION:Croatian Sports Centre\, 61 Anna Meares Way\, Gepps Cross\, SA\, 5
 094\, Australia
END:VEVENT
END:VCALENDAR
