BEGIN:VCALENDAR
VERSION:2.0
PRODID:-//Squarespace Inc/Squarespace 6//v6//EN
BEGIN:VEVENT
UID:5e3c029f06cec62250a39a98@squarespace.com
DTSTAMP:20200206T121350Z
DTSTART:20200530T053000Z
DTEND:20200530T073000Z
SUMMARY:R12 - Adelaide Croatia Raiders v Adelaide United FC
GEO:-34.841506;138.605882
LOCATION:Croatian Sports Centre\, 61 Anna Meares Way\, Gepps Cross\, SA\, 5
 094\, Australia
END:VEVENT
END:VCALENDAR
