BEGIN:VCALENDAR
VERSION:2.0
PRODID:-//Squarespace Inc/Squarespace 6//v6//EN
BEGIN:VEVENT
UID:5e3c0204a9f1571c8eea8d9a@squarespace.com
DTSTAMP:20200206T121132Z
DTSTART:20200523T053000Z
DTEND:20200523T073000Z
SUMMARY:R11 - Adelaide Croatia Raiders v Para Hills Knights
GEO:-34.841506;138.605882
LOCATION:Croatian Sports Centre\, 61 Anna Meares Way\, Gepps Cross\, SA\, 5
 094\, Australia
END:VEVENT
END:VCALENDAR
