BEGIN:VCALENDAR
VERSION:2.0
PRODID:-//Squarespace Inc/Squarespace 6//v6//EN
BEGIN:VEVENT
UID:5e3bffe58f6bab74a4cf7380@squarespace.com
DTSTAMP:20200206T120247Z
DTSTART:20200516T053000Z
DTEND:20200516T073000Z
SUMMARY:R10 - Adelaide Comets v Adelaide Croatia Raiders
GEO:-34.927941;138.576909
LOCATION:SA Athletics Stadium\, Railway Terrace\, Mile End\, SA\, 5031\, Au
 stralia
END:VEVENT
END:VCALENDAR
