BEGIN:VCALENDAR
VERSION:2.0
PRODID:-//Squarespace Inc/Squarespace 6//v6//EN
BEGIN:VEVENT
UID:5e3bfa7bb3f13536340177ca@squarespace.com
DTSTAMP:20200206T114612Z
DTSTART:20200404T083000Z
DTEND:20200404T103000Z
SUMMARY:R6 - Adelaide Olympic v Adelaide Croatia Raiders
GEO:-34.8574;138.558683
LOCATION:VALO Football Centre\, 46 Cowan Street\, Angle Park\, SA\, 5010\, 
 Australia
END:VEVENT
END:VCALENDAR
