BEGIN:VCALENDAR
VERSION:2.0
PRODID:-//Squarespace Inc/Squarespace 6//v6//EN
BEGIN:VEVENT
UID:5c5fe06e71c10be188ef1425@squarespace.com
DTSTAMP:20200206T115626Z
DTSTART:20200425T053000Z
DTEND:20200425T073000Z
SUMMARY:R8 - Adelaide City v Adelaide Croatia Raiders
GEO:-34.852168;138.637021
LOCATION:Adelaide City Park\, corner Fosters Rd & Hilltop Dr\, Oakden SA 50
 86\, Australia
END:VEVENT
END:VCALENDAR
