BEGIN:VCALENDAR
VERSION:2.0
PRODID:-//Squarespace Inc/Squarespace 6//v6//EN
BEGIN:VEVENT
UID:5e3bfd5eaa491460d7cbed87@squarespace.com
DTSTAMP:20200206T115334Z
DTSTART:20200418T053000Z
DTEND:20200418T073000Z
SUMMARY:R7 - Adelaide Croatia Raiders v Cumberland United
GEO:-34.841506;138.605882
LOCATION:Croatian Sports Centre\, 61 Anna Meares Way\, Gepps Cross\, SA\, 5
 094\, Australia
END:VEVENT
END:VCALENDAR
