BEGIN:VCALENDAR
VERSION:2.0
PRODID:-//Squarespace Inc/Squarespace 6//v6//EN
BEGIN:VEVENT
UID:5e3abe72f8a25f606a94aa4d@squarespace.com
DTSTAMP:20200205T131239Z
DTSTART:20200309T094500Z
DTEND:20200309T114500Z
SUMMARY:R3 - Adelaide Blue Eagles v Adelaide Croatia Raiders
GEO:-34.890941;138.633385
LOCATION:Marden Sports Complex\, 65 Lower Portrush Road\, Marden\, SA\, 507
 0\, Australia
END:VEVENT
END:VCALENDAR
