BEGIN:VCALENDAR
VERSION:2.0
PRODID:-//Squarespace Inc/Squarespace 6//v6//EN
BEGIN:VEVENT
UID:5e3bf9bc536e1b576d4faa5d@squarespace.com
DTSTAMP:20200206T113644Z
DTSTART:20200328T090000Z
DTEND:20200328T110000Z
SUMMARY:R5 - Adelaide Croatia Raiders v Modbury Jets
GEO:42.176114;-83.00928
LOCATION:Croatian Sports Centre\, 61 Anna Meares Way\, Gepps Cross\, SA\, 5
 094\, Australia
END:VEVENT
END:VCALENDAR
