BEGIN:VCALENDAR
VERSION:2.0
PRODID:-//Squarespace Inc/Squarespace 6//v6//EN
BEGIN:VEVENT
UID:5e3bf80fd8a1594e75ce67ab@squarespace.com
DTSTAMP:20200206T113243Z
DTSTART:20200313T094500Z
DTEND:20200313T114500Z
SUMMARY:R4 - Croydon Kings v Adelaide Croatia Raiders
GEO:-34.973016;138.5375
LOCATION:Jack Smith Park\, Cnr Morphett Road & Saratoga Drive\, Novar Garde
 ns\, SA\, 5040\, Australia
END:VEVENT
END:VCALENDAR
