BEGIN:VCALENDAR
VERSION:2.0
PRODID:-//Squarespace Inc/Squarespace 6//v6//EN
BEGIN:VEVENT
UID:5e3abd24f5b80670ad6dfe52@squarespace.com
DTSTAMP:20200205T130717Z
DTSTART:20200228T090000Z
DTEND:20200228T110000Z
SUMMARY:R2 - Adelaide Croatia Raiders v Campbelltown City
GEO:42.176114;-83.00928
LOCATION:Croatian Sports Centre\, 61 Anna Meares Way\, Gepps Cross\, SA\, 5
 094\, Australia
END:VEVENT
END:VCALENDAR
