BEGIN:VCALENDAR
VERSION:2.0
PRODID:-//Squarespace Inc/Squarespace 6//v6//EN
BEGIN:VEVENT
UID:5e3abaa7835c71275a787351@squarespace.com
DTSTAMP:20200205T130216Z
DTSTART:20200222T043000Z
DTEND:20200222T063000Z
SUMMARY:R1 - Adelaide United FC v Adelaide Croatia Raiders
GEO:-34.839694;138.615072
LOCATION:VALO Football Centre\, 46 Cowan Street\, Angle Park\, SA\, 5010\, 
 Australia
END:VEVENT
END:VCALENDAR
