BEGIN:VCALENDAR
VERSION:2.0
PRODID:-//Squarespace Inc/Squarespace 6//v6//EN
BEGIN:VEVENT
UID:5e01550b7abf7e54d61c3d62@squarespace.com
DTSTAMP:20191224T002325Z
DTSTART:20200117T230000Z
DTEND:20200118T003000Z
SUMMARY:MINIROOS - Come and Try Day January 2020
GEO:-34.841506;138.605882
LOCATION:Croatian Sports Centre\, 61 Anna Meares Way\, Gepps Cross\, SA\, 5
 094\, Australia
END:VEVENT
END:VCALENDAR
