BEGIN:VCALENDAR
VERSION:2.0
PRODID:-//Squarespace Inc/Squarespace 6//v6//EN
BEGIN:VEVENT
UID:5e015a003c0d24577664870a@squarespace.com
DTSTAMP:20191224T002352Z
DTSTART:20200122T223000Z
DTEND:20200123T023000Z
SUMMARY:Juniors School Holiday Coaching Clinics
END:VEVENT
END:VCALENDAR
