BEGIN:VCALENDAR
VERSION:2.0
PRODID:-//Squarespace Inc/Squarespace 6//v6//EN
BEGIN:VEVENT
UID:5e0159def8d63c38ee5a26a2@squarespace.com
DTSTAMP:20191224T002344Z
DTSTART:20200121T223000Z
DTEND:20200122T023000Z
SUMMARY:Juniors School Holiday Coaching Clinics
END:VEVENT
END:VCALENDAR
