BEGIN:VCALENDAR
VERSION:2.0
PRODID:-//Squarespace Inc/Squarespace 6//v6//EN
BEGIN:VEVENT
UID:5e0158eff8d63c38ee5a11de@squarespace.com
DTSTAMP:20191224T002334Z
DTSTART:20200120T223000Z
DTEND:20200121T023000Z
SUMMARY:Juniors School Holiday Coaching Clinics
END:VEVENT
END:VCALENDAR
