BEGIN:VCALENDAR
VERSION:2.0
PRODID:-//Squarespace Inc/Squarespace 6//v6//EN
BEGIN:VEVENT
UID:5e0158d6d42a33512e28ec52@squarespace.com
DTSTAMP:20191224T002308Z
DTSTART:20200115T223000Z
DTEND:20200116T023000Z
SUMMARY:Juniors School Holiday Coaching Clinics
END:VEVENT
END:VCALENDAR
