BEGIN:VCALENDAR
VERSION:2.0
PRODID:-//Squarespace Inc/Squarespace 6//v6//EN
BEGIN:VEVENT
UID:5e0158ba6c5ca627775cb516@squarespace.com
DTSTAMP:20191224T002258Z
DTSTART:20200114T223000Z
DTEND:20200115T023000Z
SUMMARY:Juniors School Holiday Coaching Clinics
END:VEVENT
END:VCALENDAR
