BEGIN:VCALENDAR
VERSION:2.0
PRODID:-//Squarespace Inc/Squarespace 6//v6//EN
BEGIN:VEVENT
UID:5e0157de3c0d245776645bf4@squarespace.com
DTSTAMP:20191224T002248Z
DTSTART:20200113T223000Z
DTEND:20200114T023000Z
SUMMARY:Juniors School Holiday Coaching Clinics
END:VEVENT
END:VCALENDAR
