BEGIN:VCALENDAR
VERSION:2.0
PRODID:-//Squarespace Inc/Squarespace 6//v6//EN
BEGIN:VEVENT
UID:5d232635eb83b800012fc02d@squarespace.com
DTSTAMP:20190728T023852Z
DTSTART:20190906T233000Z
DTEND:20190908T083000Z
SUMMARY:Australian Croatian Miniroos Tournament 2019
GEO:-34.841506;138.605882
LOCATION:Croatian Sports Centre\, 61 Anna Meares Way\, Gepps Cross\, SA\, 5
 094\, Australia
END:VEVENT
END:VCALENDAR
