BEGIN:VCALENDAR
VERSION:2.0
PRODID:-//Squarespace Inc/Squarespace 6//v6//EN
BEGIN:VEVENT
UID:5d77994b969021779cc3b3d5@squarespace.com
DTSTAMP:20190920T094244Z
DTSTART:20190928T073000Z
DTEND:20190928T153000Z
SUMMARY:One Club Presentation Night
END:VEVENT
END:VCALENDAR
