BEGIN:VCALENDAR
VERSION:2.0
PRODID:-//Squarespace Inc/Squarespace 6//v6//EN
BEGIN:VEVENT
UID:5d3d0b32554d150001e3df02@squarespace.com
DTSTAMP:20190728T030725Z
DTSTART:20190824T083000Z
DTEND:20190824T153000Z
SUMMARY:Miss Croatia Ball
GEO:-34.841506;138.605882
LOCATION:Croatian Sports Centre\, 61 Anna Meares Way\, Gepps Cross\, SA\, 5
 094\, Australia
END:VEVENT
END:VCALENDAR
