BEGIN:VCALENDAR
VERSION:2.0
PRODID:-//Squarespace Inc/Squarespace 6//v6//EN
BEGIN:VEVENT
UID:5c5fe63db208fc722acd9da8@squarespace.com
DTSTAMP:20190629T023058Z
DTSTART:20190817T093000Z
DTEND:20190817T113000Z
SUMMARY:R22 - Adelaide Croatia Raiders v Adelaide Blue Eagles
GEO:42.176114;-83.00928
LOCATION:Croatian Sports Centre\, 61 Anna Meares Way\, Gepps Cross\, SA\, 5
 094\, Australia
END:VEVENT
END:VCALENDAR
