BEGIN:VCALENDAR
VERSION:2.0
PRODID:-//Squarespace Inc/Squarespace 6//v6//EN
BEGIN:VEVENT
UID:5d3d2fb9d29fc00001c6050d@squarespace.com
DTSTAMP:20190728T052731Z
DTSTART:20190814T081500Z
DTEND:20190814T091500Z
SUMMARY:Junior Girls Academy Program
GEO:-34.841506;138.605882
LOCATION:Croatian Sports Centre\, 61 Anna Meares Way\, Gepps Cross\, SA\, 5
 094\, Australia
END:VEVENT
END:VCALENDAR
