BEGIN:VCALENDAR
VERSION:2.0
PRODID:-//Squarespace Inc/Squarespace 6//v6//EN
BEGIN:VEVENT
UID:5c5fe5bd6e9a7f5815fe4cd3@squarespace.com
DTSTAMP:20200206T112711Z
DTSTART:20190810T053000Z
DTEND:20190810T073000Z
SUMMARY:R21 - Croydon Kings v Adelaide Croatia Raiders
GEO:-34.879106;138.572938
LOCATION:Polonia Reserve\, 7 Essex Crescent\, Croydon Park\, SA\, 5008\, Au
 stralia
END:VEVENT
END:VCALENDAR
