BEGIN:VCALENDAR
VERSION:2.0
PRODID:-//Squarespace Inc/Squarespace 6//v6//EN
BEGIN:VEVENT
UID:5c5fe16b652deabd42dfab6a@squarespace.com
DTSTAMP:20190629T022852Z
DTSTART:20190706T053000Z
DTEND:20190706T073000Z
SUMMARY:R16 - Adelaide Croatia Raiders v West Adelaide
GEO:42.176114;-83.00928
LOCATION:Croatian Sports Centre\, 61 Anna Meares Way\, Gepps Cross\, SA\, 5
 094\, Australia
END:VEVENT
END:VCALENDAR
