BEGIN:VCALENDAR
VERSION:2.0
PRODID:-//Squarespace Inc/Squarespace 6//v6//EN
BEGIN:VEVENT
UID:5d3d3d83fa96e90001226f00@squarespace.com
DTSTAMP:20190728T063327Z
DTSTART:20190730T093000Z
DTEND:20190730T104000Z
SUMMARY:Friendly - Adelaide United v Adelaide Croatia Raiders
GEO:-34.804278;138.502506
LOCATION:Taperoo Reserve\, Dimboola Street\, Taperoo\, SA\, 5017\, Australi
 a
END:VEVENT
END:VCALENDAR
