BEGIN:VCALENDAR
VERSION:2.0
PRODID:-//Squarespace Inc/Squarespace 6//v6//EN
BEGIN:VEVENT
UID:5c5fe32c4785d396610e7573@squarespace.com
DTSTAMP:20200206T124225Z
DTSTART:20190727T053000Z
DTEND:20190727T073000Z
SUMMARY:R19 - MetroStars v Adelaide Croatia Raiders
GEO:-34.877148;138.6411
LOCATION:TK Shutter Reserve\, Fourth Avenue\, Klemzig\, SA\, 5087\, Austral
 ia
END:VEVENT
END:VCALENDAR
