BEGIN:VCALENDAR
VERSION:2.0
PRODID:-//Squarespace Inc/Squarespace 6//v6//EN
BEGIN:VEVENT
UID:5c5fe29d4785d396610e73a5@squarespace.com
DTSTAMP:20190629T022946Z
DTSTART:20190720T053000Z
DTEND:20190720T073000Z
SUMMARY:R18 - Adelaide Croatia Raiders v South Adelaide
GEO:42.176114;-83.00928
LOCATION:Croatian Sports Centre\, 61 Anna Meares Way\, Gepps Cross\, SA\, 5
 094\, Australia
END:VEVENT
END:VCALENDAR
