BEGIN:VCALENDAR
VERSION:2.0
PRODID:-//Squarespace Inc/Squarespace 6//v6//EN
BEGIN:VEVENT
UID:5c5fe1d40d929794cf539342@squarespace.com
DTSTAMP:20200206T120037Z
DTSTART:20190713T053000Z
DTEND:20190713T073000Z
SUMMARY:R17 - Adelaide Comets v Adelaide Croatia Raiders
GEO:-34.927941;138.576909
LOCATION:SA Athletics Stadium\, Railway Terrace\, Mile End\, SA\, 5031\, Au
 stralia
END:VEVENT
END:VCALENDAR
