BEGIN:VCALENDAR
VERSION:2.0
PRODID:-//Squarespace Inc/Squarespace 6//v6//EN
BEGIN:VEVENT
UID:5d16d7e25768a00001810890@squarespace.com
DTSTAMP:20190629T052041Z
DTSTART:20190713T090000Z
DTEND:20190713T140000Z
SUMMARY:Miss Croatia Quiz Night
GEO:-34.841506;138.605882
LOCATION:Croatian Sports Centre\, 61 Anna Meares Way\, Gepps Cross\, SA\, 5
 094\, Australia
END:VEVENT
END:VCALENDAR
