BEGIN:VCALENDAR
VERSION:2.0
PRODID:-//Squarespace Inc/Squarespace 6//v6//EN
BEGIN:VEVENT
UID:5e3c04bdd8a1594e75cff343@squarespace.com
DTSTAMP:20200206T122336Z
DTSTART:20190608T053000Z
DTEND:20190608T073000Z
SUMMARY:R3 - Campbelltown City v Adelaide Croatia Raiders
GEO:-34.884802;138.691401
LOCATION:Steve Woodcock Sports Centre\, 2/72 Stradbroke Road\, Newton\, SA\
 , 5074\, Australia
END:VEVENT
END:VCALENDAR
