BEGIN:VCALENDAR
VERSION:2.0
PRODID:-//Squarespace Inc/Squarespace 6//v6//EN
BEGIN:VEVENT
UID:5c5fdf42c83025b45f61418c@squarespace.com
DTSTAMP:20190629T024052Z
DTSTART:20190608T053000Z
DTEND:20190608T073000Z
SUMMARY:R13 - Adelaide Croatia Raiders v Adelaide Olympic
GEO:42.176114;-83.00928
LOCATION:Croatian Sports Centre\, 61 Anna Meares Way\, Gepps Cross\, SA\, 5
 094\, Australia
END:VEVENT
END:VCALENDAR
