BEGIN:VCALENDAR
VERSION:2.0
PRODID:-//Squarespace Inc/Squarespace 6//v6//EN
BEGIN:VEVENT
UID:5d16d2dc03b9810001c9de04@squarespace.com
DTSTAMP:20190629T034038Z
DTSTART:20190630T083000Z
DTEND:20190630T103000Z
SUMMARY:Miss Croatia Movie Fundraiser
GEO:-34.9529;138.59012
LOCATION:Capri Theatre\, 141 Goodwood Road\, Goodwood\, SA\, 5034\, Austral
 ia
END:VEVENT
END:VCALENDAR
