BEGIN:VCALENDAR
VERSION:2.0
PRODID:-//Squarespace Inc/Squarespace 6//v6//EN
BEGIN:VEVENT
UID:5c5fdff071c10be188ef127b@squarespace.com
DTSTAMP:20200205T130332Z
DTSTART:20190615T053000Z
DTEND:20190615T073000Z
SUMMARY:R14 - Adelaide Croatia Raiders v Campbelltown City
GEO:42.176114;-83.00928
LOCATION:Croatian Sports Centre\, 61 Anna Meares Way\, Gepps Cross\, SA\, 5
 094\, Australia
END:VEVENT
END:VCALENDAR
