BEGIN:VCALENDAR
VERSION:2.0
PRODID:-//Squarespace Inc/Squarespace 6//v6//EN
BEGIN:VEVENT
UID:5c5fde6615fcc09ae50d3078@squarespace.com
DTSTAMP:20200206T130422Z
DTSTART:20190601T053000Z
DTEND:20190601T073000Z
SUMMARY:R12 - Para Hills Knights v Adelaide Croatia Raiders
GEO:-34.806824;138.649304
LOCATION:Tha Paddocks\, Bridge Road\, Para Hills\, SA\, 5096\, Australia
END:VEVENT
END:VCALENDAR
