BEGIN:VCALENDAR
VERSION:2.0
PRODID:-//Squarespace Inc/Squarespace 6//v6//EN
BEGIN:VEVENT
UID:5c5fdd7b9b747a284078b18f@squarespace.com
DTSTAMP:20200205T125255Z
DTSTART:20190525T053000Z
DTEND:20190525T073000Z
SUMMARY:R11 - Adelaide United FC v Adelaide Croatia Raiders
GEO:-34.839694;138.615072
LOCATION:VALO Football Centre\, 46 Cowan Street\, Angle Park\, SA\, 5010\, 
 Australia
END:VEVENT
END:VCALENDAR
