BEGIN:VCALENDAR
VERSION:2.0
PRODID:-//Squarespace Inc/Squarespace 6//v6//EN
BEGIN:VEVENT
UID:5c5fd56d4785d396610e3902@squarespace.com
DTSTAMP:20190629T023836Z
DTSTART:20190518T093000Z
DTEND:20190518T113000Z
SUMMARY:R10 - Adelaide Croatia Raiders v Croydon Kings
GEO:42.176114;-83.00928
LOCATION:Croatian Sports Centre\, 61 Anna Meares Way\, Gepps Cross\, SA\, 5
 094\, Australia
END:VEVENT
END:VCALENDAR
