BEGIN:VCALENDAR
VERSION:2.0
PRODID:-//Squarespace Inc/Squarespace 6//v6//EN
BEGIN:VEVENT
UID:5c5fd491104c7bb62a10466c@squarespace.com
DTSTAMP:20200205T130906Z
DTSTART:20190511T053000Z
DTEND:20190511T073000Z
SUMMARY:R9 - Adelaide Blue Eagles v Adelaide Croatia Raiders
GEO:-34.890941;138.633385
LOCATION:Marden Sports Complex\, 65 Lower Portrush Road\, Marden\, SA\, 507
 0\, Australia
END:VEVENT
END:VCALENDAR
