BEGIN:VCALENDAR
VERSION:2.0
PRODID:-//Squarespace Inc/Squarespace 6//v6//EN
BEGIN:VEVENT
UID:5c5fd0bb53450a883a1ee8c4@squarespace.com
DTSTAMP:20190413T010409Z
DTSTART:20190406T083000Z
DTEND:20190406T103000Z
SUMMARY:R6 - Adelaide Croatia Raiders v Adelaide Comets
GEO:42.176114;-83.00928
LOCATION:Croatian Sports Centre\, 61 Anna Meares Way\, Gepps Cross\, SA\, 5
 094\, Australia
END:VEVENT
END:VCALENDAR
